BEGIN:VCALENDAR
VERSION:2.0
PRODID:-//SGE4EVER Konfiguration// Events //DE
CALSCALE:GREGORIAN
BEGIN:VEVENT
TRANSP:OPAQUE
DTEND;TZID=Europe/Berlin:20250329T134500Z
UID:782
DTSTAMP:20260421T090743Z
LOCATION:Weserstadion Franz-Böhmert-Straße 1\,28205 Bremen
DESCRIPTION:
ORGANIZER:SGE4EVER Konfiguration
URL;VALUE=URI:https://konfiguration.sge4ever.de
SUMMARY:SV Werder Bremen – Eintracht
CREATED:20240724T135750Z
DTSTART;TZID=Europe/Berlin:20250329T120000Z
END:VEVENT
END:VCALENDAR