BEGIN:VCALENDAR
VERSION:2.0
PRODID:-//SGE4EVER Konfiguration// Events //DE
CALSCALE:GREGORIAN
BEGIN:VEVENT
TRANSP:OPAQUE
DTEND;TZID=Europe/Berlin:20250405T201500Z
UID:711
DTSTAMP:20260421T084341Z
LOCATION:Weserstadion Franz-Böhmert-Straße 1\,28205 Bremen
DESCRIPTION:
ORGANIZER:SGE4EVER Konfiguration
URL;VALUE=URI:https://konfiguration.sge4ever.de
SUMMARY:Werder Bremen – Eintracht Frankfurt
CREATED:20240723T143752Z
DTSTART;TZID=Europe/Berlin:20250405T183000Z
END:VEVENT
END:VCALENDAR