BEGIN:VCALENDAR
VERSION:2.0
PRODID:-//SGE4EVER Konfiguration// Events //DE
CALSCALE:GREGORIAN
BEGIN:VEVENT
TRANSP:OPAQUE
DTEND;TZID=Europe/Berlin:20260516T171500Z
UID:2103
DTSTAMP:20260421T084348Z
LOCATION:Mercedes-Benz Arena Mercedesstraße 87\, 70372 Stuttgart
DESCRIPTION:
ORGANIZER:SGE4EVER Konfiguration
URL;VALUE=URI:https://konfiguration.sge4ever.de
SUMMARY:Eintracht Frankfurt – VfB Stuttgart
CREATED:20250627T130736Z
DTSTART;TZID=Europe/Berlin:20260516T153000Z
END:VEVENT
END:VCALENDAR