BEGIN:VCALENDAR
VERSION:2.0
PRODID:-//SGE4EVER Konfiguration// Events //DE
CALSCALE:GREGORIAN
BEGIN:VEVENT
TRANSP:OPAQUE
DTEND;TZID=Europe/Berlin:20260508T221500Z
UID:2101
DTSTAMP:20260421T084339Z
LOCATION:Signal Iduna Park Strobelallee 50\, 44139 Dortmund
DESCRIPTION:
ORGANIZER:SGE4EVER Konfiguration
URL;VALUE=URI:https://konfiguration.sge4ever.de
SUMMARY:Borussia Dortmund – Eintracht Frankfurt
CREATED:20250627T130628Z
DTSTART;TZID=Europe/Berlin:20260508T203000Z
END:VEVENT
END:VCALENDAR