BEGIN:VCALENDAR
VERSION:2.0
PRODID:-//SGE4EVER Konfiguration// Events //DE
CALSCALE:GREGORIAN
BEGIN:VEVENT
TRANSP:OPAQUE
DTEND;TZID=Europe/Berlin:20260502T171500Z
UID:2099
DTSTAMP:20260421T084332Z
LOCATION: 
DESCRIPTION:
ORGANIZER:SGE4EVER Konfiguration
URL;VALUE=URI:https://konfiguration.sge4ever.de
SUMMARY:Eintracht Frankfurt – Hamburger SV
CREATED:20250627T130548Z
DTSTART;TZID=Europe/Berlin:20260502T153000Z
END:VEVENT
END:VCALENDAR