BEGIN:VCALENDAR
VERSION:2.0
PRODID:-//SGE4EVER Konfiguration// Events //DE
CALSCALE:GREGORIAN
BEGIN:VEVENT
TRANSP:OPAQUE
DTEND;TZID=Europe/Berlin:20260425T171500Z
UID:2097
DTSTAMP:20260421T084339Z
LOCATION:WWK-Arena Bürgermeister-Ulrich-Straße 90\, 86199 Augsburg
DESCRIPTION:
ORGANIZER:SGE4EVER Konfiguration
URL;VALUE=URI:https://konfiguration.sge4ever.de
SUMMARY:FC Augsburg – Eintracht Frankfurt
CREATED:20250627T130452Z
DTSTART;TZID=Europe/Berlin:20260425T153000Z
END:VEVENT
END:VCALENDAR