BEGIN:VCALENDAR
VERSION:2.0
PRODID:-//SGE4EVER Konfiguration// Events //DE
CALSCALE:GREGORIAN
BEGIN:VEVENT
TRANSP:OPAQUE
DTEND;TZID=Europe/Berlin:20260418T201500Z
UID:2095
DTSTAMP:20260421T082900Z
LOCATION:Red Bull Arena Am Sportforum 2\, 04105 Leipzig
DESCRIPTION:
ORGANIZER:SGE4EVER Konfiguration
URL;VALUE=URI:https://konfiguration.sge4ever.de
SUMMARY:Eintracht Frankfurt – RB Leipzig
CREATED:20250627T130354Z
DTSTART;TZID=Europe/Berlin:20260418T183000Z
END:VEVENT
END:VCALENDAR